BEGIN:VCALENDAR
VERSION:2.0
PRODID:icalendar-ruby
CALSCALE:GREGORIAN
METHOD:PUBLISH
BEGIN:VEVENT
DTSTAMP:20260423T190157Z
UID:131-1786351@stmichaelscanmore.com
DTSTART:20260925T010000Z
DTEND:20260925T020000Z
CLASS:PUBLIC
CREATED:20260423T102511
DESCRIPTION:The one hour meeting includes quiet music\, a short recorded ta
 lk by Father Laurence Freeman (the director for the World Community of Chr
 istian Meditation)\, 20 minutes of silent meditation followed by a questio
 n and answer period. For further information phone \nMargaret at 403-678-5
 503.
LAST-MODIFIED:20260423T102511
LOCATION:St. Michaels Anglican Church
SUMMARY:Christian Meditation
URL;VALUE=URI:https://www.stmichaelscanmore.com/events/christian-meditation
 --131/2026-09-24
ATTACH;FILENAME=meditation.jpeg;FMTTYPE=image/jpeg:https://dq5pwpg1q8ru0.cl
 oudfront.net/2024/10/30/21/58/47/1afed88a-f8ce-451f-b05a-2e5aedec51ef/medi
 tation.jpeg
END:VEVENT
END:VCALENDAR
