BEGIN:VCALENDAR
VERSION:2.0
PRODID:icalendar-ruby
CALSCALE:GREGORIAN
METHOD:PUBLISH
BEGIN:VEVENT
DTSTAMP:20260420T093733Z
UID:148-860671@stmichaelscanmore.com
DTSTART:20251003T010000Z
DTEND:20251003T020000Z
CLASS:PUBLIC
CREATED:20250820T093207
DESCRIPTION:The Discipleship Group are planning a 6-week series on Christia
 n Discipleship in the 21st century\, beginning on Thursday evening Septemb
 er 11\, and running through to October 16. \nWe will be using a book\, Bei
 ng Disciples\, by Rowan Williams (a previous Archbishop of Canterbury) to 
 guide us. Each session will be an hour of discussion based on a chapter in
  the book. 
LAST-MODIFIED:20250820T093207
LOCATION:
SUMMARY:Discipleship Bible Study
URL;VALUE=URI:https://www.stmichaelscanmore.com/events/discipleship-bible-s
 tudy/2025-10-02
END:VEVENT
END:VCALENDAR
