BEGIN:VCALENDAR
VERSION:2.0
PRODID:icalendar-ruby
CALSCALE:GREGORIAN
METHOD:PUBLISH
BEGIN:VEVENT
DTSTAMP:20260420T111459Z
UID:88-1764078@stmichaelscanmore.com
DTSTART:20220821T160000Z
DTEND:20220821T170000Z
CLASS:PUBLIC
CREATED:20260420T043234
DESCRIPTION:Thank you for looking at our webpage. We would like to invite y
 ou to any of our Sunday Services\, where you will receive a warm welcome a
 nd worship and teaching. Refreshments are served after the service and you
  can make yourself known and tell us what brings you to Canmore. Church se
 rvices on Sundays begin at 10.00am. See you there.\nEveryone is welcome.
LAST-MODIFIED:20260420T043234
LOCATION:In-Person
SUMMARY:Easter Sunday
URL;VALUE=URI:https://www.stmichaelscanmore.com/events/easter-sunday--88/20
 22-08-21
ATTACH;FILENAME=20250528_092118.jpg;FMTTYPE=image/jpeg:https://dq5pwpg1q8ru
 0.cloudfront.net/2025/05/29/19/00/03/d61349b3-82c1-419d-ae1f-61701d4b19b5/
 20250528_092118.jpg
END:VEVENT
END:VCALENDAR
